BEGIN:VCALENDAR
VERSION:2.0
PRODID:-//Saint John Institute - ECPv6.15.20//NONSGML v1.0//EN
CALSCALE:GREGORIAN
METHOD:PUBLISH
X-WR-CALNAME:Saint John Institute
X-ORIGINAL-URL:https://www.saintjohninstitute.org
X-WR-CALDESC:Events for Saint John Institute
REFRESH-INTERVAL;VALUE=DURATION:PT1H
X-Robots-Tag:noindex
X-PUBLISHED-TTL:PT1H
BEGIN:VTIMEZONE
TZID:America/Denver
BEGIN:DAYLIGHT
TZOFFSETFROM:-0700
TZOFFSETTO:-0600
TZNAME:MDT
DTSTART:20240310T090000
END:DAYLIGHT
BEGIN:STANDARD
TZOFFSETFROM:-0600
TZOFFSETTO:-0700
TZNAME:MST
DTSTART:20241103T080000
END:STANDARD
BEGIN:DAYLIGHT
TZOFFSETFROM:-0700
TZOFFSETTO:-0600
TZNAME:MDT
DTSTART:20250309T090000
END:DAYLIGHT
BEGIN:STANDARD
TZOFFSETFROM:-0600
TZOFFSETTO:-0700
TZNAME:MST
DTSTART:20251102T080000
END:STANDARD
BEGIN:DAYLIGHT
TZOFFSETFROM:-0700
TZOFFSETTO:-0600
TZNAME:MDT
DTSTART:20260308T090000
END:DAYLIGHT
BEGIN:STANDARD
TZOFFSETFROM:-0600
TZOFFSETTO:-0700
TZNAME:MST
DTSTART:20261101T080000
END:STANDARD
END:VTIMEZONE
BEGIN:VEVENT
DTSTART;TZID=America/Denver:20251108T080000
DTEND;TZID=America/Denver:20251108T160000
DTSTAMP:20260419T065847
CREATED:20250916T232125Z
LAST-MODIFIED:20251008T211434Z
UID:11168-1762588800-1762617600@www.saintjohninstitute.org
SUMMARY:2025 Cincinnati Women's Conference
DESCRIPTION:The Cincinnati Women’s Conference will dive into the theme of Faith and Fortitude. Father Nathan Cromly will explore how unwavering faith can serve as a cornerstone for resilience in the face of life’s challenges. Drawing on biblical teachings and the lives of saints\, Father Cromly will illustrate how fortitude\, bolstered by faith\, empowers women to navigate adversity with grace and strength. His talk aims to inspire and uplift\, offering practical insights and spiritual encouragement to help attendees deepen their faith and harness their inner fortitude. \nEvent Details: \nWhen: Saturday\, November 8\, 2025 / 8:00 AM – 4:00 PM\n**Check-in begins at 7:45am in the school cafeteria followed by Mass at 8:00am then continental breakfast.\nRetreat is held in the school cafeteria \nWhere:\nSt James of the Valley\n411 Springfield Pike\nWyoming\, Ohio 45215 \nCost: $65 per person\, includes\, lunch\, snacks\, coffee\, tea and water are also available throughout the day. \nWhat: A conference for women led by Father Cromly. The day will begin with Mass followed by the rosary\, inspiring talks by Father\, and an opportunity for adoration and confession. \nRegistration fills up quickly. Don’t miss out! Register today! \nContact: frcwomensretreat@gmail.com
URL:https://www.saintjohninstitute.org/event/2025-cincinnati-womens-conference/
LOCATION:Saint James of the Valley\, 411 Springfield Pike\, Wyoming\, OH\, 45215\, United States
CATEGORIES:Featured Event,Lead in Your Family,Women
ATTACH;FMTTYPE=image/jpeg:https://www.saintjohninstitute.org/wp-content/uploads/2025/09/2025.11.8.conference.jpg
ORGANIZER;CN="SJLN":MAILTO:margaret.pluta@saintjohninstitute.org
END:VEVENT
END:VCALENDAR